BEGIN:VCALENDAR
VERSION:2.0
PRODID:-//Polskie Towarzystwo Tatrzańskie Oddział Jaworzno - ECPv6.15.11//NONSGML v1.0//EN
CALSCALE:GREGORIAN
METHOD:PUBLISH
X-ORIGINAL-URL:https://jaworzno.ptt.org.pl
X-WR-CALDESC:Wydarzenia dla Polskie Towarzystwo Tatrzańskie Oddział Jaworzno
REFRESH-INTERVAL;VALUE=DURATION:PT1H
X-Robots-Tag:noindex
X-PUBLISHED-TTL:PT1H
BEGIN:VTIMEZONE
TZID:Europe/Warsaw
BEGIN:DAYLIGHT
TZOFFSETFROM:+0100
TZOFFSETTO:+0200
TZNAME:CEST
DTSTART:20160327T010000
END:DAYLIGHT
BEGIN:STANDARD
TZOFFSETFROM:+0200
TZOFFSETTO:+0100
TZNAME:CET
DTSTART:20161030T010000
END:STANDARD
BEGIN:DAYLIGHT
TZOFFSETFROM:+0100
TZOFFSETTO:+0200
TZNAME:CEST
DTSTART:20170326T010000
END:DAYLIGHT
BEGIN:STANDARD
TZOFFSETFROM:+0200
TZOFFSETTO:+0100
TZNAME:CET
DTSTART:20171029T010000
END:STANDARD
BEGIN:DAYLIGHT
TZOFFSETFROM:+0100
TZOFFSETTO:+0200
TZNAME:CEST
DTSTART:20180325T010000
END:DAYLIGHT
BEGIN:STANDARD
TZOFFSETFROM:+0200
TZOFFSETTO:+0100
TZNAME:CET
DTSTART:20181028T010000
END:STANDARD
BEGIN:DAYLIGHT
TZOFFSETFROM:+0100
TZOFFSETTO:+0200
TZNAME:CEST
DTSTART:20190331T010000
END:DAYLIGHT
BEGIN:STANDARD
TZOFFSETFROM:+0200
TZOFFSETTO:+0100
TZNAME:CET
DTSTART:20191027T010000
END:STANDARD
BEGIN:DAYLIGHT
TZOFFSETFROM:+0100
TZOFFSETTO:+0200
TZNAME:CEST
DTSTART:20200329T010000
END:DAYLIGHT
BEGIN:STANDARD
TZOFFSETFROM:+0200
TZOFFSETTO:+0100
TZNAME:CET
DTSTART:20201025T010000
END:STANDARD
BEGIN:DAYLIGHT
TZOFFSETFROM:+0100
TZOFFSETTO:+0200
TZNAME:CEST
DTSTART:20210328T010000
END:DAYLIGHT
BEGIN:STANDARD
TZOFFSETFROM:+0200
TZOFFSETTO:+0100
TZNAME:CET
DTSTART:20211031T010000
END:STANDARD
BEGIN:DAYLIGHT
TZOFFSETFROM:+0100
TZOFFSETTO:+0200
TZNAME:CEST
DTSTART:20220327T010000
END:DAYLIGHT
BEGIN:STANDARD
TZOFFSETFROM:+0200
TZOFFSETTO:+0100
TZNAME:CET
DTSTART:20221030T010000
END:STANDARD
END:VTIMEZONE
BEGIN:VEVENT
DTSTART;TZID=Europe/Warsaw:20210925T033000
DTEND;TZID=Europe/Warsaw:20210925T235900
DTSTAMP:20260419T144958
CREATED:20210913T200044Z
LAST-MODIFIED:20210913T200044Z
UID:2994-1632540600-1632614340@jaworzno.ptt.org.pl
SUMMARY:Salatyński Wierch - Słowackie Tatry Zachodnie
DESCRIPTION:Salatin (2048 m npm) jest jednym z sześciu szczytów w grani głównej słowackich Tatr Zachodnich. Trasa jest bardzo widokowa i urozmaicona terenowo. Szlak na odcinku Brestowa – Salatyn prowadzi szerokim\, trawiastym grzbietem\, podczas gdy odcinek Salatyn – Pachola jest kamienisty i eksponowany.  \nTrasa: \nZverovka – Brestova (1934) – Salatin (2048) – Pachola (2167) – Zverovka \n  \n  \n Wymagany certyfikat covid i rejestracja w słowackim systemie: https://korona.gov.sk/en/ehranica/ \nProsimy zabrać ze sobą wydrukowane dokumenty (certyfikat covid i potwierdzenie rejestracji na ehranica)\, ze względu na to\, że może być problem z dostępem do internetu i istnieje ryzyko że smartfon przestanie działać. \nPamiętajcie również o zabraniu dowodu osobistego! \nTrasa piesza liczy ok. 17 km\, podejścia ok. 1500 m\, czas przejścia ok. 10 godzin. \nO ostatecznym przebiegu wycieczki decyduje organizator na miejscu! \nCena wyjazdu: \nmłodzież szkolna – 55\,00 zł \nczłonkowie PTT – 60\,00 zł \npozostali – 70\,00 zł \n  \nUWAGA! \nZapisy przyjmujemy:\n– za pośrednictwem poczty elektronicznej:\nptt.jaworzno@gmail.com\n– w siedzibie Oddziału przy ul. Grunwaldzkiej 35\nw każdy czwartek w godz. 17.00-18.00 \ndodatkowe informacje tel. 504 81 01 02 \nUWAGA! \nPierwszeństwo dla członków Oddziału Jaworzno PTT. \nW przypadku nieodwołania udziału w wyjeździe do 3 sierpnia 2021 r. zgłaszający się ma obowiązek uiścić opłatę w wysokości 20\,00 zł. \nWyjazd 25 września 2021 r. (sobota) o godz. 3:30 z Jaworzno Centrum. \nZaproszenie do pobrania w formacie pdf – kliknij tutajk \nNastępny planowany wyjazd: 09.10.2021 r. Wielka Świstówka
URL:https://jaworzno.ptt.org.pl/event/salatynski-wierch-slowackie-tatry-zachodnie/
END:VEVENT
BEGIN:VEVENT
DTSTART;TZID=Europe/Warsaw:20170930T053000
DTEND;TZID=Europe/Warsaw:20170930T230000
DTSTAMP:20260419T144958
CREATED:20170816T161556Z
LAST-MODIFIED:20170915T225122Z
UID:1171-1506749400-1506812400@jaworzno.ptt.org.pl
SUMMARY:Tatry Zachodnie - Salatyn 30 września 2017 (sobota)
DESCRIPTION:Planowana trasa: Zverovka – Brestová – Salatín (Salatyn) – Baníkovské sedlo – Adamcuľa – Zverovka \nSalatyn (2048 m n.p.m.) – słow. Salatín to szczyt w słowackiej części Tatr Zachodnich. Znajduje się w ich grani głównej i oddziela Dolinę Rohacką od Doliny Jałowieckiej. Jest to ostatni od zachodu dwutysięcznik tatrzański. Panorama ze szczytu obejmuje widok na pobliski Siwy Wierch\, Osobitą i Dolinę Rohacką\, a we wschodnim i południowym kierunku na liczne szczyty Tatr Zachodnich\, jak również fragmenty odległych Tatr Wysokich. \nCena wyjazdu:\nmłodzież szkolna – 45 zł\nczłonkowie PTT – 50 zł\nmieszkańcy Jaworzna – 60 zł\nosoby spoza Jaworzna – 65 zł \nZapisy przyjmujemy po 27 sierpnia 2017 r.:\npod nr tel. 505 900 666 za pośrednictwem poczty elektronicznej: jbernisz@wp.pl\noraz w czwartki w godz. od 17:00 do 18:00 w siedzibie Oddziału przy ul. Grunwaldzkiej 35 \nPierwszeństwo dla członków Oddziału Jaworzno PTT \nUWAGA! W przypadku nieodwołania udziału w wyjeździe Zgłaszający się ma obowiązek uiścić opłatę w wysokości 10 zł. \nWyjazd 30 września 2017 r. (sobota) o godz. 5:30 z Jaworzno Centrum. \nPrzyjmujemy zapisy nowych członków.\nZdobywajmy razem odznaki GOT PTT! \nNastępny planowany wyjazd: Mała Fatra \nZaproszenie do pobrania w wersji pdf: Tatry Zachodnie – Salatyn
URL:https://jaworzno.ptt.org.pl/event/tatry-zachodnie-salatyn-30-wrzesnia-2017-sobota/
END:VEVENT
END:VCALENDAR