BEGIN:VCALENDAR
VERSION:2.0
PRODID:-//Polskie Towarzystwo Tatrzańskie Oddział Jaworzno - ECPv6.15.11//NONSGML v1.0//EN
CALSCALE:GREGORIAN
METHOD:PUBLISH
X-ORIGINAL-URL:https://jaworzno.ptt.org.pl
X-WR-CALDESC:Wydarzenia dla Polskie Towarzystwo Tatrzańskie Oddział Jaworzno
REFRESH-INTERVAL;VALUE=DURATION:PT1H
X-Robots-Tag:noindex
X-PUBLISHED-TTL:PT1H
BEGIN:VTIMEZONE
TZID:Europe/Warsaw
BEGIN:DAYLIGHT
TZOFFSETFROM:+0100
TZOFFSETTO:+0200
TZNAME:CEST
DTSTART:20230326T010000
END:DAYLIGHT
BEGIN:STANDARD
TZOFFSETFROM:+0200
TZOFFSETTO:+0100
TZNAME:CET
DTSTART:20231029T010000
END:STANDARD
BEGIN:DAYLIGHT
TZOFFSETFROM:+0100
TZOFFSETTO:+0200
TZNAME:CEST
DTSTART:20240331T010000
END:DAYLIGHT
BEGIN:STANDARD
TZOFFSETFROM:+0200
TZOFFSETTO:+0100
TZNAME:CET
DTSTART:20241027T010000
END:STANDARD
BEGIN:DAYLIGHT
TZOFFSETFROM:+0100
TZOFFSETTO:+0200
TZNAME:CEST
DTSTART:20250330T010000
END:DAYLIGHT
BEGIN:STANDARD
TZOFFSETFROM:+0200
TZOFFSETTO:+0100
TZNAME:CET
DTSTART:20251026T010000
END:STANDARD
END:VTIMEZONE
BEGIN:VEVENT
DTSTART;TZID=Europe/Warsaw:20241206T053000
DTEND;TZID=Europe/Warsaw:20241208T235900
DTSTAMP:20260419T144036
CREATED:20240924T195131Z
LAST-MODIFIED:20240924T195131Z
UID:6460-1733463000-1733702340@jaworzno.ptt.org.pl
SUMMARY:Zakończenie sezonu - Małe Ciche
DESCRIPTION:Polskie Towarzystwo Tatrzańskie Oddział Jaworzno zaprasza swoich członków oraz wszystkich zainteresowanych na wyjazd w  Tatry – baza Małe Ciche\, organizowany w dniach 06-08 grudnia 2024 r. Będzie to wycieczka kończąca sezon naszych wyjazdów w 2024 r. połączona z kolacją opłatkową.\nTrasy i przebieg wycieczek w poszczególne dni będą ustalone na miejscu\, zależnie od pogody oraz upodobań i propozycji uczestników. \nCena wyjazdu:\nczłonkowie PTT – 350\,00 zł\nsympatycy         – 400\,00 zł \nUwaga cena zawiera transport\, ubezpieczenie NNW\, 2 noclegi (pokoje z łazienkami)\,\n1 śniadanie (sobota) i 1 obiadokolacja (piątek). Kolacja w sobotę oraz śniadanie w niedzielę będzie\nprzygotowane\, zgodnie z naszą oddziałową tradycją\, przez uczestników wycieczki z przywiezionych produktów. \nZapisy przyjmujemy za pośrednictwem poczty elektronicznej: zapisy.pttjaworzno@gmail.com \, telefonicznie: (+48) 884 727 001 (po godzinie 15)  oraz w czwartki w godz. od 17:00 do 18:00  w siedzibie Oddziału przy ul. Grunwaldzkiej 35\,  Pierwszeństwo dla członków PTT\, pozostali wg kolejności zapisu i wpłaty zaliczki. \nWarunkiem udziału jest wpłata zaliczki 100 zł do 17 października 2024 r. oraz pozostałej kwoty\ndo 14 listopada 2024 r. na konto: 78 8445 0007 0000 0000 2277 0001 z podaniem w tytule wpłaty\nimienia i nazwiska uczestnika oraz daty wycieczki.\nOrganizator ubezpiecza uczestników w zakresie NNW.\nUczestnik zobowiązany jest posiadać ubiór adekwatny do warunków na trasach wycieczek. \nWyjazd 06 grudnia 2024 r.  (piątek) o godz. 05:30 z Jaworzna ul. Rzemieślnicza 14\nPowrót 08 grudnia 2024 r. (niedziela) w godz. wieczornych do Jaworzna ul. Rzemieślnicza 14 \nOgłoszenie PDF : https://jaworzno.ptt.org.pl/wp-content/uploads/2024/09/MaleCiche.pdf \n 
URL:https://jaworzno.ptt.org.pl/event/zakonczenie-sezonu-male-ciche/
END:VEVENT
END:VCALENDAR