BEGIN:VCALENDAR
VERSION:2.0
PRODID:-//Polskie Towarzystwo Tatrzańskie Oddział Jaworzno - ECPv6.15.11//NONSGML v1.0//EN
CALSCALE:GREGORIAN
METHOD:PUBLISH
X-ORIGINAL-URL:https://jaworzno.ptt.org.pl
X-WR-CALDESC:Wydarzenia dla Polskie Towarzystwo Tatrzańskie Oddział Jaworzno
REFRESH-INTERVAL;VALUE=DURATION:PT1H
X-Robots-Tag:noindex
X-PUBLISHED-TTL:PT1H
BEGIN:VTIMEZONE
TZID:Europe/Warsaw
BEGIN:DAYLIGHT
TZOFFSETFROM:+0100
TZOFFSETTO:+0200
TZNAME:CEST
DTSTART:20210328T010000
END:DAYLIGHT
BEGIN:STANDARD
TZOFFSETFROM:+0200
TZOFFSETTO:+0100
TZNAME:CET
DTSTART:20211031T010000
END:STANDARD
BEGIN:DAYLIGHT
TZOFFSETFROM:+0100
TZOFFSETTO:+0200
TZNAME:CEST
DTSTART:20220327T010000
END:DAYLIGHT
BEGIN:STANDARD
TZOFFSETFROM:+0200
TZOFFSETTO:+0100
TZNAME:CET
DTSTART:20221030T010000
END:STANDARD
BEGIN:DAYLIGHT
TZOFFSETFROM:+0100
TZOFFSETTO:+0200
TZNAME:CEST
DTSTART:20230326T010000
END:DAYLIGHT
BEGIN:STANDARD
TZOFFSETFROM:+0200
TZOFFSETTO:+0100
TZNAME:CET
DTSTART:20231029T010000
END:STANDARD
END:VTIMEZONE
BEGIN:VEVENT
DTSTART;TZID=Europe/Warsaw:20221015T050000
DTEND;TZID=Europe/Warsaw:20221015T235900
DTSTAMP:20260419T144958
CREATED:20221002T124426Z
LAST-MODIFIED:20221002T130709Z
UID:4523-1665810000-1665878340@jaworzno.ptt.org.pl
SUMMARY:Tatry Zachodnie - Czerwone Wierchy
DESCRIPTION:Zaproszenie \nPolskie Towarzystwo Tatrzańskie Oddział Jaworzno zaprasza 15 października 2022 r. w Tatry Zachodnie na wycieczkę pieszą na Czerwone Wierchy. \n Wierchami nazywane są cztery szczyty Tatr Zachodnich: Kopa Kondracka\, Małołączniak\, Krzesanica i Ciemniak. Najwyższym z nich jest Krzesanica\, która liczy 2122 m n.p.m. W bocznym grzbiecie odchodzącym od Kopy Kondrackiej znajduje się Giewont. Czerwone Wierchy porasta wyjątkowa roślina o nazwie sit skucina. Wiosną jest soczyście zielona\, a już od końca lata do jesieni nabiera złotych i czerwonych barw. To właśnie jej barwie zawdzięczamy nazwę masywu Czerwone Wierchy. \nTrasa piesza trudna\, ok. 15\,5 km\, czas przejścia ok. 8 h podejścia ok. 1438 m\, zejścia ok. 1339 m. \nO ostatecznym przebiegu wycieczki decyduje organizator na miejscu! \nCena wyjazdu :\nmłodzież szkolna – 75\,00 zł\,\nczłonkowie PTT – 80\,00 zł\,\nsympatycy – 90\,00 zł\,\nposiadacze KDR – 75 zł. \nUWAGA! Rezygnujący z uczestnictwa po 12.10.2022 r. ponosi pełny koszt wycieczki. \nZapisy przyjmujemy:\n– najchętniej – za pośrednictwem poczty elektronicznej: zapisy.pttjaworzno@gmail.com\n– w siedzibie Oddziału przy ul. Grunwaldzkiej 35 w każdy czwartek w godz. 17.00-18.00 \ndodatkowe informacje tel. 579 277 622 (po godz. 15) \nPierwszeństwo dla członków PTT oddział u Jaworzno \nWyjazd 15 październik 2022 r. (sobota) o godz. 05:00 z Jaworzno Centrum. \nWarunkiem udziału jest pełna wpłata za wycieczkę na konto: 78844500070000000022770001\, z przesłanym potwierdzeniem wpłaty na adres: zapisy.pttjaworzno@gmail.com \nRezygnujący z uczestnictwa po 12.10.2022 r. ponosi pełny koszt wycieczki. \nOrganizator ubezpiecza uczestników w zakresie NNW. \nUczestnik zobowiązany jest posiadać ubiór adekwatny do warunków na trasie wycieczki. \nOgłoszenie PDF: https://jaworzno.ptt.org.pl/wp-content/uploads/2022/10/Czerwone-Wierchy.pdf
URL:https://jaworzno.ptt.org.pl/event/4523/
END:VEVENT
END:VCALENDAR