BEGIN:VCALENDAR
VERSION:2.0
PRODID:-//Polskie Towarzystwo Tatrzańskie Oddział Jaworzno - ECPv6.15.11//NONSGML v1.0//EN
CALSCALE:GREGORIAN
METHOD:PUBLISH
X-ORIGINAL-URL:https://jaworzno.ptt.org.pl
X-WR-CALDESC:Wydarzenia dla Polskie Towarzystwo Tatrzańskie Oddział Jaworzno
REFRESH-INTERVAL;VALUE=DURATION:PT1H
X-Robots-Tag:noindex
X-PUBLISHED-TTL:PT1H
BEGIN:VTIMEZONE
TZID:Europe/Warsaw
BEGIN:DAYLIGHT
TZOFFSETFROM:+0100
TZOFFSETTO:+0200
TZNAME:CEST
DTSTART:20240331T010000
END:DAYLIGHT
BEGIN:STANDARD
TZOFFSETFROM:+0200
TZOFFSETTO:+0100
TZNAME:CET
DTSTART:20241027T010000
END:STANDARD
BEGIN:DAYLIGHT
TZOFFSETFROM:+0100
TZOFFSETTO:+0200
TZNAME:CEST
DTSTART:20250330T010000
END:DAYLIGHT
BEGIN:STANDARD
TZOFFSETFROM:+0200
TZOFFSETTO:+0100
TZNAME:CET
DTSTART:20251026T010000
END:STANDARD
BEGIN:DAYLIGHT
TZOFFSETFROM:+0100
TZOFFSETTO:+0200
TZNAME:CEST
DTSTART:20260329T010000
END:DAYLIGHT
BEGIN:STANDARD
TZOFFSETFROM:+0200
TZOFFSETTO:+0100
TZNAME:CET
DTSTART:20261025T010000
END:STANDARD
END:VTIMEZONE
BEGIN:VEVENT
DTSTART;TZID=Europe/Warsaw:20251011T050000
DTEND;TZID=Europe/Warsaw:20251011T235900
DTSTAMP:20260419T143434
CREATED:20250926T195905Z
LAST-MODIFIED:20250926T195905Z
UID:11932-1760158800-1760227140@jaworzno.ptt.org.pl
SUMMARY:Tatry Zachodnie - Siwy Wierch i Brestowa.
DESCRIPTION:Polskie Towarzystwo Tatrzańskie Oddział Jaworzno zaprasza swoich członków oraz wszystkich zainteresowanych na wyjazd 11 października 2025 r. w Tatry Zachodnie – Siwy Wierch 1805 m n.p.m. \nLeśniczówka pod Białą Skałą (Biela skala\, horáreň) – Siwy Wierch – Brestowa – Chata Zverovka \nSiwy Wierch – ostatni od strony zachodniej szczyt w grani głównej Tatr Zachodnich. Rozległy masyw jest zbudowany z wapieni i dolomitów płaszczowiny choczańskiej\, które tworzą tzw. miasto skalne. Jest to noszący nazwę Rzędowych Skał labirynt turni i baszt skalnych poprzedzielanych rozpadlinami. Na szczycie krzyżują się dwa szlaki turystyczne. Na szlaku czerwonym pomiędzy Siwą Kopą a Siwym Wierchem znajdują się dwa trudne odcinki ubezpieczone łańcuchami. Brestowa –szczyt w grani głównej Tatr Zachodnich. Z odkrytego wierzchołka i grani Brestowej roztacza się rozległy widok na całą Dolinę Rohacką z wznoszącymi się nad nią szczytami. \nDługość przejścia 14\,5 km\, czas przejścia 7 :30 godz.\, suma podejść ok. 1320 m\, suma zejść o k . 1240 m\, najwyższy punkt Brestova 1934 m. Trasa jest dosyć trudna\, ze względu na przewyższenie i trudności techniczne (łańcuchy) wymaga bardzo dobrej kondycji fizycznej. Schronisko jest na końcu trasy. \nCena wyjazdu:\nczłonkowie PTT – 105\,00 zł\nsympatycy – 120\,00 zł \nUwagi : Rezygnujący z uczestnictwa po 06.10.2025 r. ponosi pełny koszt wycieczki.\nOrganizator ubezpiecza uczestników w zakresie NNW.\nTrasa wycieczki może ulec zmianie ze względu na czynniki niezależne od organizatora.\nUczestnik zobowiązany jest posiadać ubiór adekwatny do warunków na trasie wycieczki.  Prosimy o zabranie dowodu osobistego lub paszportu. \nWarunkiem udziału jest pełna wpłata za wycieczkę na konto: 78 8445 0007 0000 0000 2277 0001\nz podaniem w tytule wpłaty imienia i nazwiska uczestnika oraz daty wycieczki. \nZapisy przyjmujemy za pośrednictwem poczty elektronicznej: zapisy.pttjaworzno@gmail.com  lub osobiście    w czwartki w godz. od 17:00 do 18:00 w siedzibie Oddziału przy ul. Grunwaldzkiej 35.  Pierwszeństwo dla członków PTT\, pozostali wg kolejności zapisu i dokonanych wpłat. \nWyjazd 11 października 2025 r. (sobota) o godz. 5:00 z Jaworzna ul. Rzemieślnicza 14 \nOgłoszenie PDF: https://jaworzno.ptt.org.pl/wp-content/uploads/2025/09/Siwy3.pdf \nMapka trasy: https://mapa-turystyczna.pl/route/1n4qr  \n 
URL:https://jaworzno.ptt.org.pl/event/tatry-zachodnie-siwy-wierch-i-brestowa/
END:VEVENT
END:VCALENDAR