BEGIN:VCALENDAR
VERSION:2.0
PRODID:-//Polskie Towarzystwo Tatrzańskie Oddział Jaworzno - ECPv6.15.11//NONSGML v1.0//EN
CALSCALE:GREGORIAN
METHOD:PUBLISH
X-WR-CALNAME:Polskie Towarzystwo Tatrzańskie Oddział Jaworzno
X-ORIGINAL-URL:https://jaworzno.ptt.org.pl
X-WR-CALDESC:Wydarzenia dla Polskie Towarzystwo Tatrzańskie Oddział Jaworzno
REFRESH-INTERVAL;VALUE=DURATION:PT1H
X-Robots-Tag:noindex
X-PUBLISHED-TTL:PT1H
BEGIN:VTIMEZONE
TZID:Europe/Warsaw
BEGIN:DAYLIGHT
TZOFFSETFROM:+0100
TZOFFSETTO:+0200
TZNAME:CEST
DTSTART:20210328T010000
END:DAYLIGHT
BEGIN:STANDARD
TZOFFSETFROM:+0200
TZOFFSETTO:+0100
TZNAME:CET
DTSTART:20211031T010000
END:STANDARD
BEGIN:DAYLIGHT
TZOFFSETFROM:+0100
TZOFFSETTO:+0200
TZNAME:CEST
DTSTART:20220327T010000
END:DAYLIGHT
BEGIN:STANDARD
TZOFFSETFROM:+0200
TZOFFSETTO:+0100
TZNAME:CET
DTSTART:20221030T010000
END:STANDARD
BEGIN:DAYLIGHT
TZOFFSETFROM:+0100
TZOFFSETTO:+0200
TZNAME:CEST
DTSTART:20230326T010000
END:DAYLIGHT
BEGIN:STANDARD
TZOFFSETFROM:+0200
TZOFFSETTO:+0100
TZNAME:CET
DTSTART:20231029T010000
END:STANDARD
END:VTIMEZONE
BEGIN:VEVENT
DTSTART;TZID=Europe/Warsaw:20220521T060000
DTEND;TZID=Europe/Warsaw:20220521T235900
DTSTAMP:20260419T143433
CREATED:20220512T201531Z
LAST-MODIFIED:20220512T202126Z
UID:3716-1653112800-1653177540@jaworzno.ptt.org.pl
SUMMARY:Sokolica - Pieniny
DESCRIPTION:Zaproszenie\nPolskie Towarzystwo Tatrzańskie Oddział Jaworzno zaprasza 21 maja 2022 r. w Pieniny na wycieczkę pieszą na Trzy Korony i Sokolicę. \nSokolica – nazwa pochodzi od tego\, że dawniej gniazdowały tam sokoły\, na szczycie można podziwiać słynną sosnę – ikonę Pienin – uszkodzoną przez śmigłowiec podczas akcji ratunkowej.Trzy Korony – jedno z najatrakcyjniejszych turystycznie miejsc z ciekawą historią. Pierwotnie nazywano je Pieninami. Według opowiadań miejscowa ludność chroniła się w tych okolicach podczas najazdów tatarskich. \nTrasa: Przeł. Osice – Macelak – Trzy Korony– Czertezik – Sokolica – Krościenko nad Dunajcem. \nTrasa piesza liczy ok. 15 km\, podejścia ok. 989m\, zejścia ok. 1237m\, czas przejścia ok. 5 godzin 30 minut.\nO ostatecznym przebiegu wycieczki decyduje organizator na miejscu! \nCena wyjazdu :\nmłodzież szkolna – 45\,00 zł\,\nczłonkowie PTT – 50\,00 zł\,\nsympatycy – 60\,00 zł\,\nposiadacze KDR – zniżka 5 zł. \nUWAGA! W przypadku nieodwołania udziału w wycieczce do 18 maja zgłaszający ma obowiązek uiścić opłatę w wysokości 20\,00 zł. \nZapisy przyjmujemy:\n– najchętniej – za pośrednictwem poczty elektronicznej: zapisy.pttjaworzno@gmail.com\n– w siedzibie Oddziału przy ul. Grunwaldzkiej 35 w każdy czwartek w godz. 17.00-18.00 \ndodatkowe informacje tel. 579 277 622 (po godz. 15) \nPierwszeństwo dla członków PTT oddział u Jaworzno \nWyjazd 21 maja 2022 r. (sobota) o godz. 06:00 z Jaworzno Centrum. \nWarunkiem udziału jest pełna wpłata za wycieczkę na konto: 78844500070000000022770001 \nOrganizator ubezpiecza uczestników w zakresie NNW. \nUczestnik zobowiązany jest posiadać ubiór adekwatny do warunków na trasie wycieczki. \nOgłoszenie PDF: https://jaworzno.ptt.org.pl/wp-content/uploads/2022/05/Sokolica.docx.pdf
URL:https://jaworzno.ptt.org.pl/event/sokolica-pieniny/
END:VEVENT
END:VCALENDAR